

BEGIN:VCALENDAR
VERSION:2.0
PRODID:-//Schützenverein Stein e.V. - ECPv5.14.1//NONSGML v1.0//EN
CALSCALE:GREGORIAN
METHOD:PUBLISH
X-WR-CALNAME:Schützenverein Stein e.V.
X-ORIGINAL-URL:https://schuetzenverein-stein.de
X-WR-CALDESC:Veranstaltungen für Schützenverein Stein e.V.
BEGIN:VTIMEZONE
TZID:Europe/Berlin
BEGIN:DAYLIGHT
TZOFFSETFROM:+0100
TZOFFSETTO:+0200
TZNAME:CEST
DTSTART:20190331T010000
END:DAYLIGHT
BEGIN:STANDARD
TZOFFSETFROM:+0200
TZOFFSETTO:+0100
TZNAME:CET
DTSTART:20191027T010000
END:STANDARD
END:VTIMEZONE
BEGIN:VEVENT
DTSTART;TZID=Europe/Berlin:20191113T190000
DTEND;TZID=Europe/Berlin:20191113T203000
DTSTAMP:20260426T013846
CREATED:20191024T130126Z
LAST-MODIFIED:20191107T010055Z
UID:314-1573671600-1573677000@schuetzenverein-stein.de
SUMMARY:3. Wettkampftag Luftgewehr
DESCRIPTION:Dritter Rundenkampf Luftgewehr in Stein. Da laut Setzliste kein Gegner vorgesehen ist\, wird lediglich geschossen um die Anzahl an Mannschaftsringen zu erhöhen. \nSV Stein 1 (Heim) gegen Tabelle (Gast) \n 
URL:https://schuetzenverein-stein.de/termin/3-wettkampftag-luftgewehr-wettkampffrei
LOCATION:Schützenverein Stein e.V.\, Sägmühlweg 15\, Königsbach-Stein\, 75203
END:VEVENT
END:VCALENDAR