

BEGIN:VCALENDAR
VERSION:2.0
PRODID:-//Schützenverein Stein e.V. - ECPv5.14.1//NONSGML v1.0//EN
CALSCALE:GREGORIAN
METHOD:PUBLISH
X-WR-CALNAME:Schützenverein Stein e.V.
X-ORIGINAL-URL:https://schuetzenverein-stein.de
X-WR-CALDESC:Veranstaltungen für Schützenverein Stein e.V.
BEGIN:VTIMEZONE
TZID:Europe/Berlin
BEGIN:DAYLIGHT
TZOFFSETFROM:+0100
TZOFFSETTO:+0200
TZNAME:CEST
DTSTART:20190331T010000
END:DAYLIGHT
BEGIN:STANDARD
TZOFFSETFROM:+0200
TZOFFSETTO:+0100
TZNAME:CET
DTSTART:20191027T010000
END:STANDARD
END:VTIMEZONE
BEGIN:VEVENT
DTSTART;TZID=Europe/Berlin:20191111T193000
DTEND;TZID=Europe/Berlin:20191111T210000
DTSTAMP:20260425T234338
CREATED:20191024T120553Z
LAST-MODIFIED:20191029T082419Z
UID:299-1573500600-1573506000@schuetzenverein-stein.de
SUMMARY:3. Wettkampftag Luftpistole
DESCRIPTION:Dritter Rundenkampf Luftpistole in Stein. \nSV Stein 1 (Heim) gegen KKS Enzberg 2 (Gast) \n 
URL:https://schuetzenverein-stein.de/termin/3-wettkampftag-luftpistole
LOCATION:Schützenverein Stein e.V.\, Sägmühlweg 15\, Königsbach-Stein\, 75203
END:VEVENT
END:VCALENDAR