

BEGIN:VCALENDAR
VERSION:2.0
PRODID:-//Schützenverein Stein e.V. - ECPv5.14.1//NONSGML v1.0//EN
CALSCALE:GREGORIAN
METHOD:PUBLISH
X-WR-CALNAME:Schützenverein Stein e.V.
X-ORIGINAL-URL:https://schuetzenverein-stein.de
X-WR-CALDESC:Veranstaltungen für Schützenverein Stein e.V.
BEGIN:VTIMEZONE
TZID:Europe/Berlin
BEGIN:DAYLIGHT
TZOFFSETFROM:+0100
TZOFFSETTO:+0200
TZNAME:CEST
DTSTART:20200329T010000
END:DAYLIGHT
BEGIN:STANDARD
TZOFFSETFROM:+0200
TZOFFSETTO:+0100
TZNAME:CET
DTSTART:20201025T010000
END:STANDARD
END:VTIMEZONE
BEGIN:VEVENT
DTSTART;TZID=Europe/Berlin:20200111T190000
DTEND;TZID=Europe/Berlin:20200111T220000
DTSTAMP:20260425T234338
CREATED:20191024T141856Z
LAST-MODIFIED:20191222T170007Z
UID:321-1578769200-1578780000@schuetzenverein-stein.de
SUMMARY:Jahresabschlussfeier 2019
DESCRIPTION:Veranstaltung zur Jahresabschlussfeier für das Jahr 2019. \n 
URL:https://schuetzenverein-stein.de/termin/jahresabschlussfeier-2019
LOCATION:Pizzeria Montana\, Karlstr. 2\, Königsbach-Stein\, 75203
END:VEVENT
END:VCALENDAR