

BEGIN:VCALENDAR
VERSION:2.0
PRODID:-//Schützenverein Stein e.V. - ECPv5.14.1//NONSGML v1.0//EN
CALSCALE:GREGORIAN
METHOD:PUBLISH
X-WR-CALNAME:Schützenverein Stein e.V.
X-ORIGINAL-URL:https://schuetzenverein-stein.de
X-WR-CALDESC:Veranstaltungen für Schützenverein Stein e.V.
BEGIN:VTIMEZONE
TZID:Europe/Berlin
BEGIN:DAYLIGHT
TZOFFSETFROM:+0100
TZOFFSETTO:+0200
TZNAME:CEST
DTSTART:20200329T010000
END:DAYLIGHT
BEGIN:STANDARD
TZOFFSETFROM:+0200
TZOFFSETTO:+0100
TZNAME:CET
DTSTART:20201025T010000
END:STANDARD
END:VTIMEZONE
BEGIN:VEVENT
DTSTART;TZID=Europe/Berlin:20200207T190000
DTEND;TZID=Europe/Berlin:20200207T210000
DTSTAMP:20260425T234253
CREATED:20200206T092019Z
LAST-MODIFIED:20200206T092019Z
UID:1426-1581102000-1581109200@schuetzenverein-stein.de
SUMMARY:Jedermannsschießen
DESCRIPTION:Beim Jedermannsschießen (meist am 1. Freitag des Monats) ist der Schießstand für alle Schützensport-Interessierten geöffnet\, um in lockerer Atmosphäre die Vereinswaffen ausprobieren zu können. \nTrainingsmöglichkeiten: \n\nLuftpistole\nLuftgewehr\nLichtgewehr (für Kinder unter 12)\n\n 
URL:https://schuetzenverein-stein.de/termin/jedermannsschiessen-2
LOCATION:Schützenverein Stein e.V.\, Sägmühlweg 15\, Königsbach-Stein\, 75203
END:VEVENT
END:VCALENDAR