

BEGIN:VCALENDAR
VERSION:2.0
PRODID:-//Schützenverein Stein e.V. - ECPv5.14.1//NONSGML v1.0//EN
CALSCALE:GREGORIAN
METHOD:PUBLISH
X-WR-CALNAME:Schützenverein Stein e.V.
X-ORIGINAL-URL:https://schuetzenverein-stein.de
X-WR-CALDESC:Veranstaltungen für Schützenverein Stein e.V.
BEGIN:VTIMEZONE
TZID:Europe/Berlin
BEGIN:DAYLIGHT
TZOFFSETFROM:+0100
TZOFFSETTO:+0200
TZNAME:CEST
DTSTART:20190331T010000
END:DAYLIGHT
BEGIN:STANDARD
TZOFFSETFROM:+0200
TZOFFSETTO:+0100
TZNAME:CET
DTSTART:20191027T010000
END:STANDARD
END:VTIMEZONE
BEGIN:VEVENT
DTSTART;TZID=Europe/Berlin:20191206T183000
DTEND;TZID=Europe/Berlin:20191206T220000
DTSTAMP:20260425T222038
CREATED:20191024T000848Z
LAST-MODIFIED:20191204T222253Z
UID:290-1575657000-1575669600@schuetzenverein-stein.de
SUMMARY:Königs- und Ehrenscheibenschießen\, Vereinsmeisterschaft LuGe / LuPi
DESCRIPTION:Veranstaltung zum alljährlichen Königs- (Glücksscheibe) und Ehrenscheibenschießen sowie zur Vereinsmeisterschaft Luftgewehr und -pistole. Alle Vereinsmitglieder sind herzlich eingeladen daran teilzunehmen. \n 
URL:https://schuetzenverein-stein.de/termin/koenigsschiessen-und-vereinsmeisterschaft-luft
LOCATION:Schützenverein Stein e.V.\, Sägmühlweg 15\, Königsbach-Stein\, 75203
END:VEVENT
END:VCALENDAR