

BEGIN:VCALENDAR
VERSION:2.0
PRODID:-//Schützenverein Stein e.V. - ECPv5.14.1//NONSGML v1.0//EN
CALSCALE:GREGORIAN
METHOD:PUBLISH
X-WR-CALNAME:Schützenverein Stein e.V.
X-ORIGINAL-URL:https://schuetzenverein-stein.de
X-WR-CALDESC:Veranstaltungen für Schützenverein Stein e.V.
BEGIN:VTIMEZONE
TZID:Europe/Berlin
BEGIN:DAYLIGHT
TZOFFSETFROM:+0100
TZOFFSETTO:+0200
TZNAME:CEST
DTSTART:20190331T010000
END:DAYLIGHT
BEGIN:STANDARD
TZOFFSETFROM:+0200
TZOFFSETTO:+0100
TZNAME:CET
DTSTART:20191027T010000
END:STANDARD
END:VTIMEZONE
BEGIN:VEVENT
DTSTART;TZID=Europe/Berlin:20191230T184500
DTEND;TZID=Europe/Berlin:20191230T200000
DTSTAMP:20260426T013949
CREATED:20191024T152252Z
LAST-MODIFIED:20191024T152252Z
UID:377-1577731500-1577736000@schuetzenverein-stein.de
SUMMARY:Training Jugend / Schützenklasse
DESCRIPTION:Trainingsmöglichkeiten: \n\nLuftpistole\nLuftgewehr\nLichtgewehr (für Kinder unter 12)\n\n 
URL:https://schuetzenverein-stein.de/termin/training-jugend-schuetzenklasse-14
LOCATION:Schützenverein Stein e.V.\, Sägmühlweg 15\, Königsbach-Stein\, 75203
END:VEVENT
END:VCALENDAR