

BEGIN:VCALENDAR
VERSION:2.0
PRODID:-//Schützenverein Stein e.V. - ECPv5.14.1//NONSGML v1.0//EN
CALSCALE:GREGORIAN
METHOD:PUBLISH
X-WR-CALNAME:Schützenverein Stein e.V.
X-ORIGINAL-URL:https://schuetzenverein-stein.de
X-WR-CALDESC:Veranstaltungen für Schützenverein Stein e.V.
BEGIN:VTIMEZONE
TZID:Europe/Berlin
BEGIN:DAYLIGHT
TZOFFSETFROM:+0100
TZOFFSETTO:+0200
TZNAME:CEST
DTSTART:20210328T010000
END:DAYLIGHT
BEGIN:STANDARD
TZOFFSETFROM:+0200
TZOFFSETTO:+0100
TZNAME:CET
DTSTART:20211031T010000
END:STANDARD
END:VTIMEZONE
BEGIN:VEVENT
DTSTART;TZID=Europe/Berlin:20210705T184500
DTEND;TZID=Europe/Berlin:20210705T200000
DTSTAMP:20260425T222154
CREATED:20210628T220706Z
LAST-MODIFIED:20210628T220706Z
UID:2453-1625510700-1625515200@schuetzenverein-stein.de
SUMMARY:Training Jugend / Schützenklasse
DESCRIPTION:Trainingsmöglichkeiten: \n\nLuftpistole\nLuftgewehr\nLichtgewehr\n\nNur für Mitglieder (momentan findet kein „Schnupperschießen“ statt).
URL:https://schuetzenverein-stein.de/termin/training-jugend-schuetzenklasse-18/2021-07-05
LOCATION:Schützenverein Stein e.V.\, Sägmühlweg 15\, Königsbach-Stein\, 75203
END:VEVENT
END:VCALENDAR