

BEGIN:VCALENDAR
VERSION:2.0
PRODID:-//Schützenverein Stein e.V. - ECPv5.14.1//NONSGML v1.0//EN
CALSCALE:GREGORIAN
METHOD:PUBLISH
X-WR-CALNAME:Schützenverein Stein e.V.
X-ORIGINAL-URL:https://schuetzenverein-stein.de
X-WR-CALDESC:Veranstaltungen für Schützenverein Stein e.V.
BEGIN:VTIMEZONE
TZID:UTC
BEGIN:STANDARD
TZOFFSETFROM:+0000
TZOFFSETTO:+0000
TZNAME:UTC
DTSTART:20190101T000000
END:STANDARD
END:VTIMEZONE
BEGIN:VEVENT
DTSTART;TZID=UTC:20191023T184500
DTEND;TZID=UTC:20191023T200000
DTSTAMP:20260425T220717
CREATED:20191021T225525Z
LAST-MODIFIED:20191022T161542Z
UID:32-1571856300-1571860800@schuetzenverein-stein.de
SUMMARY:Training Jugend / Schützenklasse
DESCRIPTION:Trainingsmöglichkeiten: \n\nLuftpistole\nLuftgewehr\nLichtgewehr (für Kinder unter 12)\n\n 
URL:https://schuetzenverein-stein.de/termin/training-mittwoch
LOCATION:Schützenverein Stein e.V.\, Sägmühlweg 15\, Königsbach-Stein\, 75203
END:VEVENT
END:VCALENDAR